BEGIN:VCALENDAR
VERSION:2.0
PRODID:-//CSMT La Coudoulière//NONSGML kigkonsult.se iCalcreator 2.41.92//
CALSCALE:GREGORIAN
METHOD:PUBLISH
UID:39356134-3131-4732-b939-396665313939
X-WR-CALNAME:iCagenda
X-WR-CALDESC:Event Management Extension for Joomla!
X-WR-RELCALID:3E26604A-50F4-4449-8B3E-E4F4932D05B5
X-WR-TIMEZONE:Europe/Paris
BEGIN:VTIMEZONE
TZID:Europe/Paris
TZUNTIL:20261025T010000Z
BEGIN:STANDARD
TZNAME:CET
DTSTART:20241027T030000
TZOFFSETFROM:+0200
TZOFFSETTO:+0100
RDATE:20251026T030000
END:STANDARD
BEGIN:DAYLIGHT
TZNAME:CEST
DTSTART:20240331T020000
TZOFFSETFROM:+0100
TZOFFSETTO:+0200
RDATE:20250330T020000
RDATE:20260329T020000
END:DAYLIGHT
END:VTIMEZONE
BEGIN:VEVENT
UID:63666263-3638-4036-b532-373663366361
DTSTAMP:20260422T104438Z
CATEGORIES:Tournois
CLASS:PUBLIC
DESCRIPTION:
DTSTART:20241214T084400Z
DTEND:20241215T084400Z
GEO:+43.099701;+5.82255
LOCATION:CSMT La Coudoulière
ORGANIZER;CN=:mailto:csmt.lacoudouliere@free.fr
SEQUENCE:1
SUMMARY:TMC d'hiver-Orange  7 ans à 10 ans et vert 12 ans
TRANSP:OPAQUE
URL:https://www.csmtlacoudouliere.fr/index.php/vie-du-club/les-prochains-ev
 enements/627-tmc-dhiver-orange?layout=vcal
END:VEVENT
END:VCALENDAR
