BEGIN:VCALENDAR
VERSION:2.0
PRODID:-//CSMT La Coudoulière//NONSGML kigkonsult.se iCalcreator 2.41.92//
CALSCALE:GREGORIAN
METHOD:PUBLISH
UID:38313931-6665-4234-b431-363731376531
X-WR-CALNAME:iCagenda
X-WR-CALDESC:Event Management Extension for Joomla!
X-WR-RELCALID:3E26604A-50F4-4449-8B3E-E4F4932D05B5
X-WR-TIMEZONE:Europe/Paris
BEGIN:VTIMEZONE
TZID:Europe/Paris
TZUNTIL:20151025T010000Z
BEGIN:STANDARD
TZNAME:CET
DTSTART:20131027T030000
TZOFFSETFROM:+0200
TZOFFSETTO:+0100
RDATE:20141026T030000
END:STANDARD
BEGIN:DAYLIGHT
TZNAME:CEST
DTSTART:20130331T020000
TZOFFSETFROM:+0100
TZOFFSETTO:+0200
RDATE:20140330T020000
RDATE:20150329T020000
END:DAYLIGHT
END:VTIMEZONE
BEGIN:VEVENT
UID:33613066-6363-4335-b861-346630393830
DTSTAMP:20260422T103223Z
CATEGORIES:Animations
CLASS:PUBLIC
DESCRIPTION;ALTREP="CID:<FFFF__=0ABBE548DFE235B58f9e8a93d@coffeebean.com>":
 soirée de remise des récompenses organisée par l'OCS .\nL'équipe féminine 
 + 35 ans sera récompensée pour avoir terminé 1ère dans sa division.
DTSTART:20131121T173000Z
DTEND:20131121T173000Z
GEO:00;0
LOCATION:Six Fours
ORGANIZER;CN=:mailto:csmt.lacoudouliere@free.fr
SEQUENCE:1
SUMMARY:Soirée des récompenses
TRANSP:OPAQUE
URL:https://www.csmtlacoudouliere.fr/index.php/vie-du-club/les-prochains-ev
 enements/53-soiree-des-recompenses/2013-11-21-18-30?layout=vcal
END:VEVENT
END:VCALENDAR
