BEGIN:VCALENDAR
VERSION:2.0
PRODID:-//CSMT La Coudoulière//NONSGML kigkonsult.se iCalcreator 2.41.92//
CALSCALE:GREGORIAN
METHOD:PUBLISH
UID:35646235-3337-4462-b836-336136303032
X-WR-CALNAME:iCagenda
X-WR-CALDESC:Event Management Extension for Joomla!
X-WR-RELCALID:3E26604A-50F4-4449-8B3E-E4F4932D05B5
X-WR-TIMEZONE:Europe/Paris
BEGIN:VTIMEZONE
TZID:Europe/Paris
TZUNTIL:20190331T010000Z
BEGIN:STANDARD
TZNAME:CET
DTSTART:20161030T030000
TZOFFSETFROM:+0200
TZOFFSETTO:+0100
RDATE:20171029T030000
RDATE:20181028T030000
END:STANDARD
BEGIN:DAYLIGHT
TZNAME:CEST
DTSTART:20170326T020000
TZOFFSETFROM:+0100
TZOFFSETTO:+0200
RDATE:20180325T020000
END:DAYLIGHT
END:VTIMEZONE
BEGIN:VEVENT
UID:63306634-6538-4962-b834-666364313833
DTSTAMP:20260424T111713Z
CATEGORIES:Réunion
CLASS:PUBLIC
DESCRIPTION;ALTREP="CID:<FFFF__=0ABBE548DFE235B58f9e8a93d@coffeebean.com>":
 Réunion du Comité de direction\nAnimée Par Véronique Blatge.\n&nbsp\;\nORD
 RE DU JOUR\n1-INFORMATIONS DE RENTREE (10 mn maxi)\n- permanence des inscr
 iptions - certificat médical informatisé valable 2 ans- mise en place de 5
  bancs neufs\n2-BILAN TOURNOI D’ÉTÉ(10 mn maxi)\n- nombre de participants\
 , recettes …\n3-CHAMPIONNAT PAR EQUIPE(10 mn maxi)\n- 4 équipes hommes +35
  ans et 1 équipe + 65ans- 1 ou 2 équipes femmes (réunion prévue le 15 sept
 embre)- début des rencontres le 15 octobre\n4-ECOLE DE TENNIS ET CENTRE AV
 ENIR CLUB(10 mn maxi)\n- journées portes ouvertes\, inscriptions\, plannin
 g annuel prévisionnel- centre avenir club : fonctionnement\, budget club …
 \n5-EQUIPE « COMPÉTITION » FEMMES(10 mn maxi)\n- fonctionnement\, particip
 ation financière du club …- 6-PLANNING PREVISIONNEL DES ANIMATIONS 2017/20
 18(10 mn maxi)\n- voir planning\n7-GERANCE DU CLUB HOUSE\n- attestation d’
 assurance ?- bilan de la saison : respect des engagements conventionnels (
 animations\, devoirs envers le club …)- vote pour la reconduction de la gé
 rance à compter du 15 janvier 2018\n8-ASSEMBLEE GENERALE ET ELECTION DU NO
 UVEAU BUREAU\n- candidatures à la présidence ?\n9-QUESTIONS DIVERSES
DTSTART:20170908T163000Z
DTEND:20170908T163000Z
GEO:+43.100056;+5.821625
LOCATION:CSMT La Coudoulière
ORGANIZER;CN=:mailto:csmt.lacoudouliere@free.fr
SEQUENCE:1
SUMMARY:Réunion  du Comité
TRANSP:OPAQUE
URL:https://www.csmtlacoudouliere.fr/index.php/vie-du-club/les-prochains-ev
 enements/404-reunion-du-comite-de-direction-13/2017-09-08-18-30?layout=vca
 l
END:VEVENT
END:VCALENDAR
