BEGIN:VCALENDAR
VERSION:2.0
PRODID:-//CSMT La Coudoulière//NONSGML kigkonsult.se iCalcreator 2.41.92//
CALSCALE:GREGORIAN
METHOD:PUBLISH
UID:39303831-6332-4531-a161-323831623664
X-WR-CALNAME:iCagenda
X-WR-CALDESC:Event Management Extension for Joomla!
X-WR-RELCALID:3E26604A-50F4-4449-8B3E-E4F4932D05B5
X-WR-TIMEZONE:Europe/Paris
BEGIN:VTIMEZONE
TZID:Europe/Paris
TZUNTIL:20181028T010000Z
BEGIN:STANDARD
TZNAME:CET
DTSTART:20161030T030000
TZOFFSETFROM:+0200
TZOFFSETTO:+0100
RDATE:20171029T030000
END:STANDARD
BEGIN:DAYLIGHT
TZNAME:CEST
DTSTART:20160327T020000
TZOFFSETFROM:+0100
TZOFFSETTO:+0200
RDATE:20170326T020000
RDATE:20180325T020000
END:DAYLIGHT
END:VTIMEZONE
BEGIN:VEVENT
UID:62333263-6133-4364-b233-303364633433
DTSTAMP:20260422T104258Z
CATEGORIES:Réunion
CLASS:PUBLIC
DESCRIPTION;ALTREP="CID:<FFFF__=0ABBE548DFE235B58f9e8a93d@coffeebean.com>":
 Ordre du jour:\n&nbsp\;\nElection des membres du bureau\nElection des memb
 res du Comit&eacute\;
DTSTART:20161209T170000Z
DTEND:20161209T170000Z
GEO:+43.100056;+5.821625
LOCATION:CSMT La Coudoulière
ORGANIZER;CN=:mailto:csmt.lacoudouliere@free.fr
SEQUENCE:1
SUMMARY:Réunion du Comité de direction
TRANSP:OPAQUE
URL:https://www.csmtlacoudouliere.fr/index.php/vie-du-club/les-prochains-ev
 enements/351-reunion-du-comite-de-direction-5/2016-12-09-18-00?layout=vcal
END:VEVENT
END:VCALENDAR
