BEGIN:VCALENDAR
VERSION:2.0
PRODID:-//CSMT La Coudoulière//NONSGML kigkonsult.se iCalcreator 2.41.92//
CALSCALE:GREGORIAN
METHOD:PUBLISH
UID:62643239-6234-4630-b735-363235326530
X-WR-CALNAME:iCagenda
X-WR-CALDESC:Event Management Extension for Joomla!
X-WR-RELCALID:3E26604A-50F4-4449-8B3E-E4F4932D05B5
X-WR-TIMEZONE:Europe/Paris
BEGIN:VTIMEZONE
TZID:Europe/Paris
TZUNTIL:20181028T010000Z
BEGIN:STANDARD
TZNAME:CET
DTSTART:20161030T030000
TZOFFSETFROM:+0200
TZOFFSETTO:+0100
RDATE:20171029T030000
END:STANDARD
BEGIN:DAYLIGHT
TZNAME:CEST
DTSTART:20160327T020000
TZOFFSETFROM:+0100
TZOFFSETTO:+0200
RDATE:20170326T020000
RDATE:20180325T020000
END:DAYLIGHT
END:VTIMEZONE
BEGIN:VEVENT
UID:31313539-6162-4464-b332-633732383466
DTSTAMP:20260422T100133Z
CATEGORIES:Réunion
CLASS:PUBLIC
DESCRIPTION;ALTREP="CID:<FFFF__=0ABBE548DFE235B58f9e8a93d@coffeebean.com>":
 Assembl&eacute\;e g&eacute\;n&eacute\;rale de notre association:\nLes Poin
 ts suivants seront &agrave\; l&rsquo\;ordre du jour :&ndash\; Rapport Mora
 l du Pr&eacute\;sident\, rapport d&rsquo\;activit&eacute\; &ndash\; R&eacu
 te\;sultats Sportifs&ndash\; Rapport Financier&ndash\; Projet pour la sais
 on prochaine&ndash\; &Eacute\;lection des membres du Comit&eacute\;&ndash\
 ; Questions diverses
DTSTART:20161203T090000Z
DTEND:20161203T090000Z
GEO:+43.101196;+5.82326
LOCATION:CSMT La Coudoulière
ORGANIZER;CN=:mailto:regnierphilippe@orange.fr
SEQUENCE:1
SUMMARY:Assemblée générale
TRANSP:OPAQUE
URL:https://www.csmtlacoudouliere.fr/index.php/vie-du-club/les-prochains-ev
 enements/346-assemblee-generale-3/2016-12-03-10-00?layout=vcal
END:VEVENT
END:VCALENDAR
