BEGIN:VCALENDAR
VERSION:2.0
PRODID:-//CSMT La Coudoulière//NONSGML kigkonsult.se iCalcreator 2.41.92//
CALSCALE:GREGORIAN
METHOD:PUBLISH
UID:31653364-6365-4833-a239-373730346363
X-WR-CALNAME:iCagenda
X-WR-CALDESC:Event Management Extension for Joomla!
X-WR-RELCALID:3E26604A-50F4-4449-8B3E-E4F4932D05B5
X-WR-TIMEZONE:Europe/Paris
BEGIN:VTIMEZONE
TZID:Europe/Paris
TZUNTIL:20171029T010000Z
BEGIN:STANDARD
TZNAME:CET
DTSTART:20151025T030000
TZOFFSETFROM:+0200
TZOFFSETTO:+0100
RDATE:20161030T030000
END:STANDARD
BEGIN:DAYLIGHT
TZNAME:CEST
DTSTART:20150329T020000
TZOFFSETFROM:+0100
TZOFFSETTO:+0200
RDATE:20160327T020000
RDATE:20170326T020000
END:DAYLIGHT
END:VTIMEZONE
BEGIN:VEVENT
UID:64633436-3536-4261-a564-616166626263
DTSTAMP:20260422T103810Z
CATEGORIES:Réunion
CLASS:PUBLIC
DESCRIPTION;ALTREP="CID:<FFFF__=0ABBE548DFE235B58f9e8a93d@coffeebean.com>":
 Ordre du jour:\n1.G&eacute\;rance du club house top d&eacute\;part ....\no
 rganisation: horaires\, m&eacute\;nage\,....\n2.Sylvain?\n3. proposition d
 es animations pour la saison par la commission 'd'annimation\n4.Que souhai
 tez vous mettre en place pour s'am&eacute\;liorer\n5\, Questions diverses
 \nNous partagerons une galette des rois...
DTSTART:20160127T173000Z
DTEND:20160127T173000Z
GEO:+43.100056;+5.821625
LOCATION:CSMT La Coudouliere
ORGANIZER;CN=:mailto:regnierphilippe@orange.fr
SEQUENCE:1
SUMMARY:Réunion du Comité de direction
TRANSP:OPAQUE
URL:https://www.csmtlacoudouliere.fr/index.php/vie-du-club/les-prochains-ev
 enements/297-reunion-du-comite-de-direction-3/2016-01-27-18-30?layout=vcal
END:VEVENT
END:VCALENDAR
