BEGIN:VCALENDAR
VERSION:2.0
PRODID:-//CSMT La Coudoulière//NONSGML kigkonsult.se iCalcreator 2.41.92//
CALSCALE:GREGORIAN
METHOD:PUBLISH
UID:65386561-3161-4561-a262-333238616464
X-WR-CALNAME:iCagenda
X-WR-CALDESC:Event Management Extension for Joomla!
X-WR-RELCALID:3E26604A-50F4-4449-8B3E-E4F4932D05B5
X-WR-TIMEZONE:Europe/Paris
BEGIN:VTIMEZONE
TZID:Europe/Paris
TZUNTIL:20171029T010000Z
BEGIN:STANDARD
TZNAME:CET
DTSTART:20151025T030000
TZOFFSETFROM:+0200
TZOFFSETTO:+0100
RDATE:20161030T030000
END:STANDARD
BEGIN:DAYLIGHT
TZNAME:CEST
DTSTART:20150329T020000
TZOFFSETFROM:+0100
TZOFFSETTO:+0200
RDATE:20160327T020000
RDATE:20170326T020000
END:DAYLIGHT
END:VTIMEZONE
BEGIN:VEVENT
UID:33373734-6630-4337-a532-313031376338
DTSTAMP:20260424T113323Z
CATEGORIES:Réunion
CLASS:PUBLIC
DESCRIPTION;ALTREP="CID:<FFFF__=0ABBE548DFE235B58f9e8a93d@coffeebean.com>":
 Ordre du jour:Validation des comptes et du budget pr&eacute\;visionnel pr&
 eacute\;sent&eacute\; par Serge.pr&eacute\;paration de l' assembl&eacute\;
 eg&eacute\;rance du club houseTravaux &agrave\; envisagerCooptations de no
 uveaux membrespoints divers
DTSTART:20151114T090000Z
DTEND:20151114T090000Z
GEO:+43.100056;+5.821625
LOCATION:CSMT La Coudouliere
ORGANIZER;CN=:mailto:regnierphilippe@orange.fr
SEQUENCE:1
SUMMARY:Réunion du Comité de direction
TRANSP:OPAQUE
URL:https://www.csmtlacoudouliere.fr/index.php/vie-du-club/les-prochains-ev
 enements/279-reunion-du-comite-de-direction-2/2015-11-14-10-00?layout=vcal
END:VEVENT
END:VCALENDAR
