BEGIN:VCALENDAR
VERSION:2.0
PRODID:-//CSMT La Coudoulière//NONSGML kigkonsult.se iCalcreator 2.41.92//
CALSCALE:GREGORIAN
METHOD:PUBLISH
UID:66663635-3435-4639-b761-633732626130
X-WR-CALNAME:iCagenda
X-WR-CALDESC:Event Management Extension for Joomla!
X-WR-RELCALID:3E26604A-50F4-4449-8B3E-E4F4932D05B5
X-WR-TIMEZONE:Europe/Paris
BEGIN:VTIMEZONE
TZID:Europe/Paris
TZUNTIL:20140330T010000Z
BEGIN:STANDARD
TZNAME:CET
DTSTART:20111030T030000
TZOFFSETFROM:+0200
TZOFFSETTO:+0100
RDATE:20121028T030000
RDATE:20131027T030000
END:STANDARD
BEGIN:DAYLIGHT
TZNAME:CEST
DTSTART:20120325T020000
TZOFFSETFROM:+0100
TZOFFSETTO:+0200
RDATE:20130331T020000
END:DAYLIGHT
END:VTIMEZONE
BEGIN:VEVENT
UID:37333661-6662-4132-b666-396264336131
DTSTAMP:20260422T103659Z
CATEGORIES:Animations
CLASS:PUBLIC
DESCRIPTION;ALTREP="CID:<FFFF__=0ABBE548DFE235B58f9e8a93d@coffeebean.com>":
 Voilà un moment très convivial que propose le Tennis club 'CSMT La Coudoul
 ière' à l'ensemble de ses adhérents.Au programme:Une journée sportive avec
  petits matchs de doubles à la mêlée mais aussi festive puisque chacun app
 orte une entrée ou un dessert et le club s'occupe des grillades et des boi
 ssons...Vous l'avez compris\, la compétition\, la performance n'est pas la
  seule préoccupation du club: il faut que tout le monde se sentent bien!..
 ..La cohésion sociale\, la bonne ambiance\, la convivialité…….Bref ' se se
 ntir bien 'sont des éléments prioritaires dans la vie d’un club…\n&nbsp\;
 \nRéservation obligatoire&nbsp\;
DTSTART:20120624T070000Z
DTEND:20120624T070000Z
GEO:+43.100056;+5.821625
LOCATION:CSMT La Coudoulière
ORGANIZER;CN=:mailto:csmt.lacoudouliere@free.fr
SEQUENCE:1
SUMMARY:Tournoi salade
TRANSP:OPAQUE
URL:https://www.csmtlacoudouliere.fr/index.php/vie-du-club/les-prochains-ev
 enements/198-tournoi-salade?layout=vcal
END:VEVENT
END:VCALENDAR
